BEGIN:VCALENDAR
VERSION:2.0
PRODID:-//The Mansion at Keuka Lake - ECPv6.15.1.1//NONSGML v1.0//EN
CALSCALE:GREGORIAN
METHOD:PUBLISH
X-WR-CALNAME:The Mansion at Keuka Lake
X-ORIGINAL-URL:https://themansionny.com
X-WR-CALDESC:Events for The Mansion at Keuka Lake
REFRESH-INTERVAL;VALUE=DURATION:PT1H
X-Robots-Tag:noindex
X-PUBLISHED-TTL:PT1H
BEGIN:VTIMEZONE
TZID:UTC
BEGIN:STANDARD
TZOFFSETFROM:+0000
TZOFFSETTO:+0000
TZNAME:UTC
DTSTART:20250101T000000
END:STANDARD
END:VTIMEZONE
BEGIN:VEVENT
DTSTART;TZID=UTC:20250920T140000
DTEND;TZID=UTC:20250920T210000
DTSTAMP:20260423T233002
CREATED:20250604T170747Z
LAST-MODIFIED:20250604T170747Z
UID:1956-1758376800-1758402000@themansionny.com
SUMMARY:Patio Closed
DESCRIPTION:Please note: Outdoor dining will be closed to the public from 2:00 PM to 9:00 PM for a private wedding celebration. Indoor dining remains open—reservations are highly recommended.
URL:https://themansionny.com/calendar/patio-closed-8/
LOCATION:The Mansion at Keuka Lake\, 3456 Rt-54A\, Keuka Park\, 14478\, United States
ORGANIZER;CN="The Mansion at Keuka Lake":MAILTO:em@themansionny.com
END:VEVENT
BEGIN:VEVENT
DTSTART;TZID=UTC:20250830T140000
DTEND;TZID=UTC:20250830T210000
DTSTAMP:20260423T233002
CREATED:20250604T170433Z
LAST-MODIFIED:20250604T170517Z
UID:1954-1756562400-1756587600@themansionny.com
SUMMARY:Patio Closed
DESCRIPTION:Please note: Outdoor dining will be closed to the public from 2:00 PM to 9:00 PM for a private wedding celebration. Indoor dining remains open—reservations are highly recommended.
URL:https://themansionny.com/calendar/patio-closed-7/
LOCATION:The Mansion at Keuka Lake\, 3456 Rt-54A\, Keuka Park\, 14478\, United States
ORGANIZER;CN="The Mansion at Keuka Lake":MAILTO:em@themansionny.com
END:VEVENT
BEGIN:VEVENT
DTSTART;TZID=UTC:20250816T140000
DTEND;TZID=UTC:20250816T210000
DTSTAMP:20260423T233002
CREATED:20250816T182200Z
LAST-MODIFIED:20250816T182200Z
UID:2195-1755352800-1755378000@themansionny.com
SUMMARY:Patio Closed
DESCRIPTION:Please note: Outdoor dining will be closed to the public from 2:00 PM to 9:00 PM for a private wedding celebration. Indoor dining remains open—reservations are highly recommended.
URL:https://themansionny.com/calendar/patio-closed-15/
LOCATION:The Mansion at Keuka Lake\, 3456 Rt-54A\, Keuka Park\, 14478\, United States
ORGANIZER;CN="The Mansion at Keuka Lake":MAILTO:em@themansionny.com
END:VEVENT
BEGIN:VEVENT
DTSTART;TZID=UTC:20250801T140000
DTEND;TZID=UTC:20250801T210000
DTSTAMP:20260423T233002
CREATED:20250731T175150Z
LAST-MODIFIED:20250731T175150Z
UID:1997-1754056800-1754082000@themansionny.com
SUMMARY:Patio Closed
DESCRIPTION:Please note: Outdoor dining will be closed to the public from 2:00 PM to 9:00 PM for a private wedding celebration. Indoor dining remains open—reservations are highly recommended.
URL:https://themansionny.com/calendar/patio-closed-14/
LOCATION:The Mansion at Keuka Lake\, 3456 Rt-54A\, Keuka Park\, 14478\, United States
ORGANIZER;CN="The Mansion at Keuka Lake":MAILTO:em@themansionny.com
END:VEVENT
BEGIN:VEVENT
DTSTART;TZID=UTC:20250726T140000
DTEND;TZID=UTC:20250726T210000
DTSTAMP:20260423T233002
CREATED:20250604T170317Z
LAST-MODIFIED:20250621T163852Z
UID:1952-1753538400-1753563600@themansionny.com
SUMMARY:CLOSED
DESCRIPTION:Please note: We will be closed to the public for a private event.
URL:https://themansionny.com/calendar/patio-closed-6/
LOCATION:The Mansion at Keuka Lake\, 3456 Rt-54A\, Keuka Park\, 14478\, United States
ORGANIZER;CN="The Mansion at Keuka Lake":MAILTO:em@themansionny.com
END:VEVENT
BEGIN:VEVENT
DTSTART;VALUE=DATE:20250723
DTEND;VALUE=DATE:20250724
DTSTAMP:20260423T233002
CREATED:20250604T170005Z
LAST-MODIFIED:20250604T170040Z
UID:1950-1753228800-1753315199@themansionny.com
SUMMARY:Patio Closed
DESCRIPTION:Please note: Outdoor dining will be closed to the public for the day. Indoor dining remains open—reservations are highly recommended.
URL:https://themansionny.com/calendar/patio-closed-5/
LOCATION:The Mansion at Keuka Lake\, 3456 Rt-54A\, Keuka Park\, 14478\, United States
ORGANIZER;CN="The Mansion at Keuka Lake":MAILTO:em@themansionny.com
END:VEVENT
BEGIN:VEVENT
DTSTART;TZID=UTC:20250717T140000
DTEND;TZID=UTC:20250717T200000
DTSTAMP:20260423T233002
CREATED:20250604T164614Z
LAST-MODIFIED:20250604T164614Z
UID:1948-1752760800-1752782400@themansionny.com
SUMMARY:Patio Closed
DESCRIPTION:Please note: Outdoor dining will be closed to the public from 2:00 PM to 8:00 PM for a private wedding celebration. Indoor dining remains open—reservations are highly recommended.
URL:https://themansionny.com/calendar/patio-closed-4/
LOCATION:The Mansion at Keuka Lake\, 3456 Rt-54A\, Keuka Park\, 14478\, United States
ORGANIZER;CN="The Mansion at Keuka Lake":MAILTO:em@themansionny.com
END:VEVENT
BEGIN:VEVENT
DTSTART;TZID=UTC:20250712T140000
DTEND;TZID=UTC:20250712T210000
DTSTAMP:20260423T233002
CREATED:20250604T163209Z
LAST-MODIFIED:20250604T163223Z
UID:1946-1752328800-1752354000@themansionny.com
SUMMARY:Patio Closed
DESCRIPTION:Please note: Outdoor dining will be closed to the public from 2:00 PM to 9:00 PM for a private wedding celebration. Indoor dining remains open—reservations are highly recommended.
URL:https://themansionny.com/calendar/patio-closed-3/
LOCATION:The Mansion at Keuka Lake\, 3456 Rt-54A\, Keuka Park\, 14478\, United States
ORGANIZER;CN="The Mansion at Keuka Lake":MAILTO:em@themansionny.com
END:VEVENT
BEGIN:VEVENT
DTSTART;VALUE=DATE:20250704
DTEND;VALUE=DATE:20250705
DTSTAMP:20260423T233002
CREATED:20250620T221653Z
LAST-MODIFIED:20250620T221847Z
UID:1975-1751587200-1751673599@themansionny.com
SUMMARY:Closing Early
DESCRIPTION:In observance of the holiday\, we will be closed for dinner on 07/04/2025\, lunch will be served from 11am – 4pm. Reservations are recommended.
URL:https://themansionny.com/calendar/4th-of-july/
LOCATION:The Mansion at Keuka Lake\, 3456 Rt-54A\, Keuka Park\, 14478\, United States
END:VEVENT
BEGIN:VEVENT
DTSTART;TZID=UTC:20250627T150000
DTEND;TZID=UTC:20250627T210000
DTSTAMP:20260423T233002
CREATED:20250604T161745Z
LAST-MODIFIED:20250604T161745Z
UID:1944-1751036400-1751058000@themansionny.com
SUMMARY:Patio Closed
DESCRIPTION:Please note: Outdoor dining will be closed to the public from 3:00 PM to 9:00 PM for a private event. Indoor dining remains open—reservations are highly recommended.
URL:https://themansionny.com/calendar/patio-closed-2/
LOCATION:The Mansion at Keuka Lake\, 3456 Rt-54A\, Keuka Park\, 14478\, United States
ORGANIZER;CN="The Mansion at Keuka Lake":MAILTO:em@themansionny.com
END:VEVENT
BEGIN:VEVENT
DTSTART;TZID=UTC:20250621T140000
DTEND;TZID=UTC:20250621T210000
DTSTAMP:20260423T233002
CREATED:20250604T161407Z
LAST-MODIFIED:20250604T161619Z
UID:1942-1750514400-1750539600@themansionny.com
SUMMARY:Patio Closed
DESCRIPTION:Please note: Outdoor dining will be closed to the public from 2:00 PM to 9:00 PM for a private wedding celebration. Indoor dining remains open—reservations are highly recommended.
URL:https://themansionny.com/calendar/patio-closed/
LOCATION:The Mansion at Keuka Lake\, 3456 Rt-54A\, Keuka Park\, 14478\, United States
ORGANIZER;CN="The Mansion at Keuka Lake":MAILTO:em@themansionny.com
END:VEVENT
BEGIN:VEVENT
DTSTART;TZID=UTC:20250614T140000
DTEND;TZID=UTC:20250614T210000
DTSTAMP:20260423T233002
CREATED:20250604T155226Z
LAST-MODIFIED:20250604T161555Z
UID:1933-1749909600-1749934800@themansionny.com
SUMMARY:Patio Closed
DESCRIPTION:Please note: Outdoor dining will be closed to the public from 2:00 PM to 9:00 PM for a private wedding celebration. Indoor dining remains open—reservations are highly recommended.
URL:https://themansionny.com/calendar/wedding-event/
LOCATION:The Mansion at Keuka Lake\, 3456 Rt-54A\, Keuka Park\, 14478\, United States
ORGANIZER;CN="The Mansion at Keuka Lake":MAILTO:em@themansionny.com
END:VEVENT
END:VCALENDAR