BEGIN:VCALENDAR
VERSION:2.0
PRODID:-//The Mansion at Keuka Lake - ECPv6.15.1.1//NONSGML v1.0//EN
CALSCALE:GREGORIAN
METHOD:PUBLISH
X-ORIGINAL-URL:https://themansionny.com
X-WR-CALDESC:Events for The Mansion at Keuka Lake
REFRESH-INTERVAL;VALUE=DURATION:PT1H
X-Robots-Tag:noindex
X-PUBLISHED-TTL:PT1H
BEGIN:VTIMEZONE
TZID:UTC
BEGIN:STANDARD
TZOFFSETFROM:+0000
TZOFFSETTO:+0000
TZNAME:UTC
DTSTART:20260101T000000
END:STANDARD
END:VTIMEZONE
BEGIN:VEVENT
DTSTART;TZID=UTC:20260423T080000
DTEND;TZID=UTC:20260429T210000
DTSTAMP:20260423T232716
CREATED:20260228T170311Z
LAST-MODIFIED:20260228T170311Z
UID:2569-1776931200-1777496400@themansionny.com
SUMMARY:Quilting with Margaret
DESCRIPTION:Quilting with Margaret – Two 3‑Day Retreats \n\nApril 23rd\, 24th\, 25th\nApril 27th\, 28th\, 29th \nWe’re thrilled to welcome Quilting with Margaret back for two inspiring 3‑day quilting retreats this April! \n🧵 Slots are still available for April 23rd–25th.\nIf you’re looking for a creative getaway filled with quilting\, community\, and plenty of inspiration\, this is the perfect opportunity. \nFor more details and to sign up\, please visit Margaret’s website.
URL:https://themansionny.com/calendar/quilting-with-margaret/
LOCATION:The Mansion at Keuka Lake\, 3456 Rt-54A\, Keuka Park\, 14478\, United States
END:VEVENT
END:VCALENDAR