BEGIN:VCALENDAR
VERSION:2.0
PRODID:-//The Mansion at Keuka Lake - ECPv6.15.1.1//NONSGML v1.0//EN
CALSCALE:GREGORIAN
METHOD:PUBLISH
X-WR-CALNAME:The Mansion at Keuka Lake
X-ORIGINAL-URL:https://themansionny.com
X-WR-CALDESC:Events for The Mansion at Keuka Lake
REFRESH-INTERVAL;VALUE=DURATION:PT1H
X-Robots-Tag:noindex
X-PUBLISHED-TTL:PT1H
BEGIN:VTIMEZONE
TZID:UTC
BEGIN:STANDARD
TZOFFSETFROM:+0000
TZOFFSETTO:+0000
TZNAME:UTC
DTSTART:20260101T000000
END:STANDARD
END:VTIMEZONE
BEGIN:VEVENT
DTSTART;TZID=UTC:20260405T100000
DTEND;TZID=UTC:20260405T150000
DTSTAMP:20260424T005930
CREATED:20260228T164410Z
LAST-MODIFIED:20260228T164410Z
UID:2563-1775383200-1775401200@themansionny.com
SUMMARY:Easter Brunch
DESCRIPTION:Sunday\, April 5th\, 2026 \n\n10:00 AM – 3:00 PM \nJoin us for a festive Easter Brunch!\nReservations are required.\n📞 Call 315‑239‑4800 to reserve your table. \nMenu and full details coming soon!
URL:https://themansionny.com/calendar/easter-brunch/
LOCATION:The Mansion at Keuka Lake\, 3456 Rt-54A\, Keuka Park\, 14478\, United States
END:VEVENT
END:VCALENDAR