BEGIN:VCALENDAR
VERSION:2.0
PRODID:-//The Mansion at Keuka Lake - ECPv6.15.1.1//NONSGML v1.0//EN
CALSCALE:GREGORIAN
METHOD:PUBLISH
X-ORIGINAL-URL:https://themansionny.com
X-WR-CALDESC:Events for The Mansion at Keuka Lake
REFRESH-INTERVAL;VALUE=DURATION:PT1H
X-Robots-Tag:noindex
X-PUBLISHED-TTL:PT1H
BEGIN:VTIMEZONE
TZID:UTC
BEGIN:STANDARD
TZOFFSETFROM:+0000
TZOFFSETTO:+0000
TZNAME:UTC
DTSTART:20250101T000000
END:STANDARD
END:VTIMEZONE
BEGIN:VEVENT
DTSTART;TZID=UTC:20251123T080000
DTEND;TZID=UTC:20251203T200000
DTSTAMP:20260424T073817
CREATED:20251004T143634Z
LAST-MODIFIED:20251004T143832Z
UID:2522-1763884800-1764792000@themansionny.com
SUMMARY:Closed: Thanksgiving Break
DESCRIPTION:Closed for Thanksgiving break.
URL:https://themansionny.com/calendar/closed-thanksgiving-break/
LOCATION:The Mansion at Keuka Lake\, 3456 Rt-54A\, Keuka Park\, 14478\, United States
END:VEVENT
END:VCALENDAR